BEGIN:VCALENDAR
VERSION:2.0
PRODID:-//Family Resource Centre Saint John Inc - ECPv6.15.20//NONSGML v1.0//EN
CALSCALE:GREGORIAN
METHOD:PUBLISH
X-WR-CALNAME:Family Resource Centre Saint John Inc
X-ORIGINAL-URL:https://frc-crfsaintjohn.com
X-WR-CALDESC:Events for Family Resource Centre Saint John Inc
REFRESH-INTERVAL;VALUE=DURATION:PT1H
X-Robots-Tag:noindex
X-PUBLISHED-TTL:PT1H
BEGIN:VTIMEZONE
TZID:America/Moncton
BEGIN:DAYLIGHT
TZOFFSETFROM:-0400
TZOFFSETTO:-0300
TZNAME:ADT
DTSTART:20190310T060000
END:DAYLIGHT
BEGIN:STANDARD
TZOFFSETFROM:-0300
TZOFFSETTO:-0400
TZNAME:AST
DTSTART:20191103T050000
END:STANDARD
BEGIN:DAYLIGHT
TZOFFSETFROM:-0400
TZOFFSETTO:-0300
TZNAME:ADT
DTSTART:20200308T060000
END:DAYLIGHT
BEGIN:STANDARD
TZOFFSETFROM:-0300
TZOFFSETTO:-0400
TZNAME:AST
DTSTART:20201101T050000
END:STANDARD
BEGIN:DAYLIGHT
TZOFFSETFROM:-0400
TZOFFSETTO:-0300
TZNAME:ADT
DTSTART:20210314T060000
END:DAYLIGHT
BEGIN:STANDARD
TZOFFSETFROM:-0300
TZOFFSETTO:-0400
TZNAME:AST
DTSTART:20211107T050000
END:STANDARD
END:VTIMEZONE
BEGIN:VEVENT
DTSTART;TZID=America/Moncton:20200408T100000
DTEND;TZID=America/Moncton:20200408T160000
DTSTAMP:20260419T121711
CREATED:20200408T215715Z
LAST-MODIFIED:20200408T220245Z
UID:4092-1586340000-1586361600@frc-crfsaintjohn.com
SUMMARY:Fun Daily Family Facebook Challenge
DESCRIPTION:Are you Up for the Challenge? Join us every weekday at 10 am on our Saint John Family Resource Centre Facebook page for your next challenge. Post a photo or video in our comments of your family completing the challenge! For every challenge you complete\, your name will go into a draw for a gift card. Draw will take place on April 30. Note: You must live in the Greater Saint John area to qualify. (Hampton to Fundy Shores\, Browns Flat and Kingston Peninsula) \n  \nShare this:Tweet
URL:https://frc-crfsaintjohn.com/program/fun-daily-family-challenge/2020-04-08/
CATEGORIES:Other
END:VEVENT
END:VCALENDAR